BEGIN:VCALENDAR
VERSION:2.0
PRODID:-//wp-events-plugin.com//7.2.3.1//EN
TZID:Europe/Paris
X-WR-TIMEZONE:Europe/Paris
BEGIN:VEVENT
UID:79@lequartet.fr
DTSTART;TZID=Europe/Paris:20260404T170000
DTEND;TZID=Europe/Paris:20260404T190000
DTSTAMP:20251117T151559Z
URL:https://lequartet.fr/events/concert-en-petites-formations-acoustiques-
 du-pole-chalonnes/
SUMMARY:Concert en petites formations acoustiques du pôle Chalonnes
DESCRIPTION:Le concert en petites formations acoustiques est un rendez-vous
  attendu par nos élèves et leurs familles. Ouvert à tous\, il se tiendr
 a cette année en la salle Capitulaire\, jouxtant l'Abbaye de Saint-George
 s-sur-Loire\, le samedi 4 avril à 17h.\n\nCompte-tenu de la capacité res
 treinte de la salle\, il est demandé à celles et ceux souhaitant y assis
 ter de réserver leur place via ce lien :\n\nBilletterie pour le concert e
 n petites formations acoustiques du Pôle Chalonnes\n\nLe concert est grat
 uit\, pour permettre au plus grand nombre de participer les places sont li
 mitées à 4 par famille.\n\nDe plus amples informations sur le programme 
 et les classes participantes seront données ultérieurement.\n\n&lt\;&lt\
 ; Retour à la Saison culturelle
ATTACH;FMTTYPE=image/jpeg:https://lequartet.fr/wp-content/uploads/2025/09/
 Affiche-petites-formations-acoustiques-Saint-Georges.png
LOCATION:Salle Capitulaire\, 38 rue Nationale\, Saint-Georges-sur-Loire\, 4
 9170\, France
X-APPLE-STRUCTURED-LOCATION;VALUE=URI;X-ADDRESS=38 rue Nationale\, Saint-Ge
 orges-sur-Loire\, 49170\, France;X-APPLE-RADIUS=100;X-TITLE=Salle Capitula
 ire:geo:0,0
END:VEVENT
BEGIN:VTIMEZONE
TZID:Europe/Paris
X-LIC-LOCATION:Europe/Paris
BEGIN:DAYLIGHT
DTSTART:20260329T030000
TZOFFSETFROM:+0100
TZOFFSETTO:+0200
TZNAME:CEST
END:DAYLIGHT
END:VTIMEZONE
END:VCALENDAR