BEGIN:VCALENDAR
VERSION:2.0
PRODID:-//wp-events-plugin.com//7.2.3.1//EN
TZID:Europe/Paris
X-WR-TIMEZONE:Europe/Paris
BEGIN:VEVENT
UID:73@lequartet.fr
DTSTART;TZID=Europe/Paris:20260424T200000
DTEND;TZID=Europe/Paris:20260425T190000
DTSTAMP:20260410T144745Z
URL:https://lequartet.fr/events/opera-david-et-jonathas/
SUMMARY:Opéra "David et Jonathas"
DESCRIPTION:2 ans après avoir proposé une interprétation magistrale des 
 Indes Galantes (J-P. Rameau) au Théâtre Chanzy d'Angers\, X. Truong-Fall
 ai s'attaque à l'opéra lyrique David et Jonathas\, chef d’œuvre de Ma
 rc-Antoine Charpentier (1643-1704). De nombreux musiciens et solistes sont
  sollicités pour les 2 représentations programmées les 24 et 25 avril 2
 026 au Théâtre Chanzy :\n\n- Vendredi 24 avril\, 20h \n- Samedi 25 avri
 l\, 16h\n\nChef-d'œuvre de la musique baroque française\, la tragédie l
 yrique David et Jonathas de Marc-Antoine Charpentier tire son intrigue du 
 Livre de Samuel dans l'Ancien Testament. Créée en 1688 au Collège Louis
 -le-Grand de Paris\, alors dirigé par les Jésuites\, l'œuvre nous emmè
 ne au pied des montagnes de Gilboé où Israélites et Philistins se livre
 nt à une guerre fratricide. Les deux jeunes protagonistes de l'intrigue\,
  David\, le berger devenu célèbre pour avoir vaincu le géant Goliath\, 
 et Jonathas\, le fils de Saül\, roi d'Israël à l'esprit embrumé par la
  folie\, voient leur amour fraternel contrarié et se retrouvent en positi
 on d'ennemis\, confrontés à la violence et à la mort.\nAirs et chœurs 
 majestueux soulignent l'importance accordée à la psychologie des personn
 ages et la finesse de la composition musicale conduit ce récit jusqu'à s
 on dénouement avec une grande intensité émotionnelle.\n\nTarifs :\n\nTa
 rif plein 25 €\nTarif réduit 18 € (scolaires\, étudiants\, demandeur
  d'emploi)\nGratuit -12 ans\n\nInformations et billetterie : www.ensemblei
 ntenso.fr/2026-david-et-jonathas\n\n&lt\;&lt\; Retour à la Saison culture
 lle
ATTACH;FMTTYPE=image/jpeg:https://lequartet.fr/wp-content/uploads/2025/09/
 Affiche-David-et-Jonathas.jpg
LOCATION:Théâtre Chanzy\, 30 avenue de Chanzy\, Angers\, 49000\, France
X-APPLE-STRUCTURED-LOCATION;VALUE=URI;X-ADDRESS=30 avenue de Chanzy\, Anger
 s\, 49000\, France;X-APPLE-RADIUS=100;X-TITLE=Théâtre Chanzy:geo:0,0
END:VEVENT
BEGIN:VTIMEZONE
TZID:Europe/Paris
X-LIC-LOCATION:Europe/Paris
BEGIN:DAYLIGHT
DTSTART:20260329T030000
TZOFFSETFROM:+0100
TZOFFSETTO:+0200
TZNAME:CEST
END:DAYLIGHT
END:VTIMEZONE
END:VCALENDAR